BEGIN:VCALENDAR
VERSION:2.0
PRODID:-//Lake Lemon Marina - ECPv6.15.20//NONSGML v1.0//EN
CALSCALE:GREGORIAN
METHOD:PUBLISH
X-ORIGINAL-URL:https://lemonmarina.com
X-WR-CALDESC:Events for Lake Lemon Marina
REFRESH-INTERVAL;VALUE=DURATION:PT1H
X-Robots-Tag:noindex
X-PUBLISHED-TTL:PT1H
BEGIN:VTIMEZONE
TZID:America/Indiana/Indianapolis
BEGIN:DAYLIGHT
TZOFFSETFROM:-0500
TZOFFSETTO:-0400
TZNAME:EDT
DTSTART:20250309T070000
END:DAYLIGHT
BEGIN:STANDARD
TZOFFSETFROM:-0400
TZOFFSETTO:-0500
TZNAME:EST
DTSTART:20251102T060000
END:STANDARD
BEGIN:DAYLIGHT
TZOFFSETFROM:-0500
TZOFFSETTO:-0400
TZNAME:EDT
DTSTART:20260308T070000
END:DAYLIGHT
BEGIN:STANDARD
TZOFFSETFROM:-0400
TZOFFSETTO:-0500
TZNAME:EST
DTSTART:20261101T060000
END:STANDARD
BEGIN:DAYLIGHT
TZOFFSETFROM:-0500
TZOFFSETTO:-0400
TZNAME:EDT
DTSTART:20270314T070000
END:DAYLIGHT
BEGIN:STANDARD
TZOFFSETFROM:-0400
TZOFFSETTO:-0500
TZNAME:EST
DTSTART:20271107T060000
END:STANDARD
BEGIN:DAYLIGHT
TZOFFSETFROM:-0500
TZOFFSETTO:-0400
TZNAME:EDT
DTSTART:20280312T070000
END:DAYLIGHT
BEGIN:STANDARD
TZOFFSETFROM:-0400
TZOFFSETTO:-0500
TZNAME:EST
DTSTART:20281105T060000
END:STANDARD
BEGIN:DAYLIGHT
TZOFFSETFROM:-0500
TZOFFSETTO:-0400
TZNAME:EDT
DTSTART:20290311T070000
END:DAYLIGHT
BEGIN:STANDARD
TZOFFSETFROM:-0400
TZOFFSETTO:-0500
TZNAME:EST
DTSTART:20291104T060000
END:STANDARD
BEGIN:DAYLIGHT
TZOFFSETFROM:-0500
TZOFFSETTO:-0400
TZNAME:EDT
DTSTART:20300310T070000
END:DAYLIGHT
BEGIN:STANDARD
TZOFFSETFROM:-0400
TZOFFSETTO:-0500
TZNAME:EST
DTSTART:20301103T060000
END:STANDARD
END:VTIMEZONE
BEGIN:VEVENT
DTSTART;VALUE=DATE:20261031
DTEND;VALUE=DATE:20261101
DTSTAMP:20260424T011251
CREATED:20250310T165437Z
LAST-MODIFIED:20250310T165437Z
UID:10000079-1793404800-1793491199@lemonmarina.com
SUMMARY:Active Season Ends
DESCRIPTION:Each year our “Active Season” officially starts on April Fools Day and runs until Halloween\, though the actual amount of activity is weather dependent. See our Hours page for more info. Check our Events page for our seasonal events\, which usually include a Spring opening in May\, Memorial Day Party\, Independence Day Party\, and a Labor Day Party.
URL:https://lemonmarina.com/event/active-season-ends/2026-10-31/
CATEGORIES:Recurring,Seasonal
END:VEVENT
BEGIN:VEVENT
DTSTART;VALUE=DATE:20270401
DTEND;VALUE=DATE:20270402
DTSTAMP:20260424T011251
CREATED:20250310T165231Z
LAST-MODIFIED:20250310T165231Z
UID:10000075-1806537600-1806623999@lemonmarina.com
SUMMARY:Active Season Starts
DESCRIPTION:Each year our “Active Season” officially starts on April Fools Day and runs until Halloween\, though the actual amount of activity is weather dependent. See our Hours page for more info. Check our Events page for our seasonal events\, which usually include a Spring opening in May\, Memorial Day Party\, Independence Day Party\, and a Labor Day Party.
URL:https://lemonmarina.com/event/active-season-starts/2027-04-01/
LOCATION:Lake Lemon Marina\, 9554 E. Northshore Dr\, UNIONVILLE\, IN\, 47468\, United States
CATEGORIES:Recurring,Seasonal
END:VEVENT
BEGIN:VEVENT
DTSTART;VALUE=DATE:20271031
DTEND;VALUE=DATE:20271101
DTSTAMP:20260424T011251
CREATED:20250310T165437Z
LAST-MODIFIED:20250310T165437Z
UID:10000080-1824940800-1825027199@lemonmarina.com
SUMMARY:Active Season Ends
DESCRIPTION:Each year our “Active Season” officially starts on April Fools Day and runs until Halloween\, though the actual amount of activity is weather dependent. See our Hours page for more info. Check our Events page for our seasonal events\, which usually include a Spring opening in May\, Memorial Day Party\, Independence Day Party\, and a Labor Day Party.
URL:https://lemonmarina.com/event/active-season-ends/2027-10-31/
CATEGORIES:Recurring,Seasonal
END:VEVENT
BEGIN:VEVENT
DTSTART;VALUE=DATE:20280401
DTEND;VALUE=DATE:20280402
DTSTAMP:20260424T011251
CREATED:20250310T165231Z
LAST-MODIFIED:20250310T165231Z
UID:10000076-1838160000-1838246399@lemonmarina.com
SUMMARY:Active Season Starts
DESCRIPTION:Each year our “Active Season” officially starts on April Fools Day and runs until Halloween\, though the actual amount of activity is weather dependent. See our Hours page for more info. Check our Events page for our seasonal events\, which usually include a Spring opening in May\, Memorial Day Party\, Independence Day Party\, and a Labor Day Party.
URL:https://lemonmarina.com/event/active-season-starts/2028-04-01/
LOCATION:Lake Lemon Marina\, 9554 E. Northshore Dr\, UNIONVILLE\, IN\, 47468\, United States
CATEGORIES:Recurring,Seasonal
END:VEVENT
BEGIN:VEVENT
DTSTART;VALUE=DATE:20281031
DTEND;VALUE=DATE:20281101
DTSTAMP:20260424T011251
CREATED:20250310T165437Z
LAST-MODIFIED:20250310T165437Z
UID:10000081-1856563200-1856649599@lemonmarina.com
SUMMARY:Active Season Ends
DESCRIPTION:Each year our “Active Season” officially starts on April Fools Day and runs until Halloween\, though the actual amount of activity is weather dependent. See our Hours page for more info. Check our Events page for our seasonal events\, which usually include a Spring opening in May\, Memorial Day Party\, Independence Day Party\, and a Labor Day Party.
URL:https://lemonmarina.com/event/active-season-ends/2028-10-31/
CATEGORIES:Recurring,Seasonal
END:VEVENT
BEGIN:VEVENT
DTSTART;VALUE=DATE:20290401
DTEND;VALUE=DATE:20290402
DTSTAMP:20260424T011251
CREATED:20250310T165231Z
LAST-MODIFIED:20250310T165231Z
UID:10000077-1869696000-1869782399@lemonmarina.com
SUMMARY:Active Season Starts
DESCRIPTION:Each year our “Active Season” officially starts on April Fools Day and runs until Halloween\, though the actual amount of activity is weather dependent. See our Hours page for more info. Check our Events page for our seasonal events\, which usually include a Spring opening in May\, Memorial Day Party\, Independence Day Party\, and a Labor Day Party.
URL:https://lemonmarina.com/event/active-season-starts/2029-04-01/
LOCATION:Lake Lemon Marina\, 9554 E. Northshore Dr\, UNIONVILLE\, IN\, 47468\, United States
CATEGORIES:Recurring,Seasonal
END:VEVENT
BEGIN:VEVENT
DTSTART;VALUE=DATE:20291031
DTEND;VALUE=DATE:20291101
DTSTAMP:20260424T011251
CREATED:20250310T165437Z
LAST-MODIFIED:20250310T165437Z
UID:10000082-1888099200-1888185599@lemonmarina.com
SUMMARY:Active Season Ends
DESCRIPTION:Each year our “Active Season” officially starts on April Fools Day and runs until Halloween\, though the actual amount of activity is weather dependent. See our Hours page for more info. Check our Events page for our seasonal events\, which usually include a Spring opening in May\, Memorial Day Party\, Independence Day Party\, and a Labor Day Party.
URL:https://lemonmarina.com/event/active-season-ends/2029-10-31/
CATEGORIES:Recurring,Seasonal
END:VEVENT
END:VCALENDAR